BEGIN:VCALENDAR
VERSION:2.0
PRODID:-//uOttawa ACM-W Student Chapter - ECPv5.8.1//NONSGML v1.0//EN
CALSCALE:GREGORIAN
METHOD:PUBLISH
X-WR-CALNAME:uOttawa ACM-W Student Chapter
X-ORIGINAL-URL:https://uottawaacmw.acm.org
X-WR-CALDESC:Events for uOttawa ACM-W Student Chapter
BEGIN:VTIMEZONE
TZID:UTC
BEGIN:STANDARD
TZOFFSETFROM:+0000
TZOFFSETTO:+0000
TZNAME:UTC
DTSTART:20230101T000000
END:STANDARD
END:VTIMEZONE
BEGIN:VEVENT
DTSTART;TZID=UTC:20231003T170000
DTEND;TZID=UTC:20231003T200000
DTSTAMP:20260423T114205
CREATED:20231004T203834Z
LAST-MODIFIED:20231004T203834Z
UID:635-1696352400-1696363200@uottawaacmw.acm.org
SUMMARY:Welcoming Event Fall 2023
DESCRIPTION:Agenda: \n\nIntroduction of the Chapter\nIntroduction of the Chapter Executives\nACM-Student Membership Benefits\nChapter Initiatives and Inclusive Plans\nPizza and Networking\nGames and free prizes
URL:https://uottawaacmw.acm.org/event/welcoming-event-fall-2023/
LOCATION:116 Louis-Pasteur Pvt.\, 116 Louis-Pasteur Pvt.\, Ottawa\, Ontario\, Canada
ORGANIZER;CN="uOttawa%20ACM-W%20Student%20Chapter":MAILTO:acm-w-student@uottawa.ca
END:VEVENT
END:VCALENDAR