BEGIN:VCALENDAR
VERSION:2.0
PRODID:-//uOttawa ACM-W Student Chapter - ECPv5.8.1//NONSGML v1.0//EN
CALSCALE:GREGORIAN
METHOD:PUBLISH
X-WR-CALNAME:uOttawa ACM-W Student Chapter
X-ORIGINAL-URL:https://uottawaacmw.acm.org
X-WR-CALDESC:Events for uOttawa ACM-W Student Chapter
BEGIN:VTIMEZONE
TZID:America/Halifax
BEGIN:DAYLIGHT
TZOFFSETFROM:-0400
TZOFFSETTO:-0300
TZNAME:ADT
DTSTART:20220313T060000
END:DAYLIGHT
BEGIN:STANDARD
TZOFFSETFROM:-0300
TZOFFSETTO:-0400
TZNAME:AST
DTSTART:20221106T050000
END:STANDARD
END:VTIMEZONE
BEGIN:VEVENT
DTSTART;TZID=America/Halifax:20220408T113000
DTEND;TZID=America/Halifax:20220408T170000
DTSTAMP:20260419T122529
CREATED:20220320T002602Z
LAST-MODIFIED:20230217T205209Z
UID:517-1649417400-1649437200@uottawaacmw.acm.org
SUMMARY:QueerTech Qareers Virtual Fair
DESCRIPTION:  \nSubject: Are You Looking for Your Next Job? – Don’t Miss The Next QueerTech Qareers Virtual Fair! \nWorking For The Future: Preparing Our Community For Tomorrow’s Jobs! \nAs we look at the future of work and technology\, we know that talent and skills will always be at the center of building the best companies. Get prepared for the jobs of tomorrow starting TODAY by joining us at the next edition of the \nOn Thursday\, April 7th (11:30-18:00 Eastern) and Friday\, April 8th (11:30-17:00 Eastern)\, we will connect you with amazing tech employers from across Canada already building the best teams for tomorrow. Join us for great conversations about the future of work\, workshops hosted by hiring companies\, and some great networking. Bring your authentic self and help us queer the tech ecosystem! \nHiring companies include: (Presenting) RBC (Pride) Chrome\, Loopio (Ally) Moment Factory\, Petal\, REDspace\, Rogers\, Scotiabank\, Sun Life Financial\, Unity Technologies (Qmunity) OroHealth\, OSEDEA\, Transit (Content Partner) Rangle.io \nInterested to join the fair! Click the link ?: \nRSVP at queertech.info/qvf-apr2022
URL:https://uottawaacmw.acm.org/event/queertech-qareers-virtual-fair/
LOCATION:Online Event\, Ottawa\, Ontario\, Canada
END:VEVENT
END:VCALENDAR