BEGIN:VCALENDAR
VERSION:2.0
PRODID:-//uOttawa ACM-W Student Chapter - ECPv5.8.1//NONSGML v1.0//EN
CALSCALE:GREGORIAN
METHOD:PUBLISH
X-WR-CALNAME:uOttawa ACM-W Student Chapter
X-ORIGINAL-URL:https://uottawaacmw.acm.org
X-WR-CALDESC:Events for uOttawa ACM-W Student Chapter
BEGIN:VTIMEZONE
TZID:UTC
BEGIN:STANDARD
TZOFFSETFROM:+0000
TZOFFSETTO:+0000
TZNAME:UTC
DTSTART:20230101T000000
END:STANDARD
END:VTIMEZONE
BEGIN:VEVENT
DTSTART;VALUE=DATE:20230322
DTEND;VALUE=DATE:20230323
DTSTAMP:20260423T190045
CREATED:20231217T060703Z
LAST-MODIFIED:20231217T060703Z
UID:701-1679443200-1679529599@uottawaacmw.acm.org
SUMMARY:National Engineering Month 2023
DESCRIPTION:In celebration of National Engineering Month\, we\, uOttawa ACM-W\, honored the achievement of women in STEM fields. The event provided a great opportunity for people from diverse backgrounds to connect and network. \nOur esteemed Faculty Sponsor and keynote speaker\, Melike Erol-Kantarci\, shared her career journey\, providing valuable insights. Namrata Bagaria\, the founder of an age-tech company\, delivered an inspiring talk and participated in the panel session. \nWhile Dr.Sawsan Abdul-Majid\, P.Eng\, SMIEEE was unable to attend; however\, her company\, ANCWT\, was well represented\, showcasing the work in her absence. The panel session with PhD students facilitated interactive discussion\, emphasizing the importance of diversity and collaboration in advancing STEM fields. \n  \n                          \n               \n  \n               \n  \n 
URL:https://uottawaacmw.acm.org/event/national-engineering-month-2023/
LOCATION:STEM Complex\, 150 Louis Pasteur Pvt.\, Ottawa\, ON\, K1N9A7\, Canada
CATEGORIES:Past
ORGANIZER;CN="uOttawa%20ACM-W%20Student%20Chapter":MAILTO:acm-w-student@uottawa.ca
END:VEVENT
END:VCALENDAR