BEGIN:VCALENDAR
VERSION:2.0
PRODID:-//uOttawa ACM-W Student Chapter - ECPv5.8.1//NONSGML v1.0//EN
CALSCALE:GREGORIAN
METHOD:PUBLISH
X-WR-CALNAME:uOttawa ACM-W Student Chapter
X-ORIGINAL-URL:https://uottawaacmw.acm.org
X-WR-CALDESC:Events for uOttawa ACM-W Student Chapter
BEGIN:VTIMEZONE
TZID:UTC
BEGIN:STANDARD
TZOFFSETFROM:+0000
TZOFFSETTO:+0000
TZNAME:UTC
DTSTART:20230101T000000
END:STANDARD
END:VTIMEZONE
BEGIN:VEVENT
DTSTART;TZID=UTC:20231206T110000
DTEND;TZID=UTC:20231206T130000
DTSTAMP:20260423T094241
CREATED:20240327T200457Z
LAST-MODIFIED:20240327T202328Z
UID:740-1701860400-1701867600@uottawaacmw.acm.org
SUMMARY:Hour of Code 2023
DESCRIPTION:We are excited to share a recap of our recent Hour of Code event\, organized by uOttawa’s ACM-W Student Chapter\, which took place on December 6th\, 2023\, at Elgin Street Public School. \nThis event was specially tailored for grade 3 students\, aiming to introduce them to the exciting world of coding and computer science in a fun and engaging way. The day was filled with interactive activities that allowed the students to explore the basics of programming. From creating their first lines of code to designing simple animations\, the students were eager to learn and experiment with new concepts. \nWe would like to express our gratitude to Elgin Street Public School for hosting us and to all the volunteers who dedicated their time and effort to make this event possible. Special thanks to the grade 3 students for their enthusiasm and creativity throughout the day. We would like to thank ACM\, Association for Computing Machinery for their invaluable support in carrying out this event. \n                                       
URL:https://uottawaacmw.acm.org/event/hour-of-code-2023/
CATEGORIES:Past
END:VEVENT
END:VCALENDAR